Workbook
Name Base_date: [1]Title!$A$8
Name First_month: [1]Title!$A$10
Name i: '[2]Add NRA inputs'!$C$8
Name ii: '[3]Add NRA inputs'!$C$6
Name j: '[3]Add NRA inputs'!$C$8
Name NRA_pred_CPI_increase: '[4]CPI & Toll increase inputs'!$C$5
Name Ops_start: [5]Title!$B$10
Name Pred_monthly__CPI: '[6]Add NRA inputs'!$C$6
Name PV_month: #REF!
Name PV_month_name: '[6]Other calcs'!$C$5
Name Rounddown_above_R10: #REF!
Name Rounddown_below_R10: #REF!
Name sa: '[3]CPI increase input'!$E$6
Name test: #REF!
Name VAT_Rate: #REF!
Name VAT_Rate2: [5]Title!$B$14
Name VATrate: #REF!
Name Vlookup_table_for_month_names: '[7]Other calcs'!$A$5:$B$16

Sheet Title Page
C3: CONTRACT SANRAL N.003-010-2024/2R: FOR THE OPERATIONS AND MAINTENANCE OF MARIANNHILL TOLL PLAZA ON NATIONAL ROUTE 3
C5: Schedule of Payments / Cost Matrices for the Design-Build and Operation Service Periods
C8: Base Date:
C9: =DATE(2026,11,14)-28 -> 46312
C10: First Month of Contract:
C11: =C9+164 -> 46476
C12: First Month of Operation Service:
C13: =C11+42 -> 46518

Sheet ETOC to Model
B2: Control Centre | D2: Vehicle Class | E2: Est Period | G2: 1 | S2: =+G2+1 -> 2 | AE2: =+S2+1 -> 3 | AQ2: =+AE2+1 -> 4 | BC2: =+AQ2+1 -> 5 | BO2: =+BC2+1 -> 6
E3: =+'Title Page'!C11 -> 46476 | F3: =DATE(YEAR(E3),MONTH(E3)+2,1)-1 -> 46507 | G3: =DATE(YEAR(F3),MONTH(F3)+2,1)-1 -> 46538 | H3: =DATE(YEAR(G3),MONTH(G3)+2,1)-1 -> 46568 | I3: =DATE(YEAR(H3),MONTH(H3)+2,1)-1 -> 46599 | J3: =DATE(YEAR(I3),MONTH(I3)+2,1)-1 -> 46630 | K3: =DATE(YEAR(J3),MONTH(J3)+2,1)-1 -> 46660 | L3: =DATE(YEAR(K3),MONTH(K3)+2,1)-1 -> 46691 | M3: =DATE(YEAR(L3),MONTH(L3)+2,1)-1 -> 46721 | ... BZ3: =DATE(YEAR(BY3),MONTH(BY3)+2,1)-1 -> 48699
B4: Mariannhill | D4: Class 1 | E4: =Mariannhill!H16 -> 0 | F4: =Mariannhill!I16 -> 0 | G4: =Mariannhill!J16 -> 0 | H4: =Mariannhill!K16 -> 0 | I4: =Mariannhill!L16 -> 0 | J4: =Mariannhill!M16 -> 0 | K4: =Mariannhill!N16 -> 0 | L4: =Mariannhill!O16 -> 0 | ... BZ4: =Mariannhill!CC16 -> 0
D5: Class 2 | E5: =Mariannhill!H17 -> 0 | F5: =Mariannhill!I17 -> 0 | G5: =Mariannhill!J17 -> 0 | H5: =Mariannhill!K17 -> 0 | I5: =Mariannhill!L17 -> 0 | J5: =Mariannhill!M17 -> 0 | K5: =Mariannhill!N17 -> 0 | L5: =Mariannhill!O17 -> 0 | ... BZ5: =Mariannhill!CC17 -> 0
D6: Class 3 | E6: =Mariannhill!H18 -> 0 | F6: =Mariannhill!I18 -> 0 | G6: =Mariannhill!J18 -> 0 | H6: =Mariannhill!K18 -> 0 | I6: =Mariannhill!L18 -> 0 | J6: =Mariannhill!M18 -> 0 | K6: =Mariannhill!N18 -> 0 | L6: =Mariannhill!O18 -> 0 | ... BZ6: =Mariannhill!CC18 -> 0
D7: Class 4 | E7: =Mariannhill!H19 -> 0 | F7: =Mariannhill!I19 -> 0 | G7: =Mariannhill!J19 -> 0 | H7: =Mariannhill!K19 -> 0 | I7: =Mariannhill!L19 -> 0 | J7: =Mariannhill!M19 -> 0 | K7: =Mariannhill!N19 -> 0 | L7: =Mariannhill!O19 -> 0 | ... BZ7: =Mariannhill!CC19 -> 0
B8: Total | C8: =+B4 -> Mariannhill | E8: =+SUM(E4:E7) -> 0 | F8: =+SUM(F4:F7) -> 0 | G8: =+SUM(G4:G7) -> 0 | H8: =+SUM(H4:H7) -> 0 | I8: =+SUM(I4:I7) -> 0 | J8: =+SUM(J4:J7) -> 0 | K8: =+SUM(K4:K7) -> 0 | L8: =+SUM(L4:L7) -> 0 | ... BZ8: =+SUM(BZ4:BZ7) -> 0
B9: Total Variable OM Fees to Model | E9: =+SUM(E8:E8) -> 0 | F9: =+SUM(F8:F8) -> 0 | G9: =+SUM(G8:G8) -> 0 | H9: =+SUM(H8:H8) -> 0 | I9: =+SUM(I8:I8) -> 0 | J9: =+SUM(J8:J8) -> 0 | K9: =+SUM(K8:K8) -> 0 | L9: =+SUM(L8:L8) -> 0 | ... BZ9: =+SUM(BZ8:BZ8) -> 0
B11: Control Centre | E11: Est Period | G11: 1 | S11: =+G11+1 -> 2 | AE11: =+S11+1 -> 3 | AQ11: =+AE11+1 -> 4 | BC11: =+AQ11+1 -> 5 | BO11: =+BC11+1 -> 6
E12: =+E$3 -> 46476 | F12: =+F$3 -> 46507 | G12: =+G$3 -> 46538 | H12: =+H$3 -> 46568 | I12: =+I$3 -> 46599 | J12: =+J$3 -> 46630 | K12: =+K$3 -> 46660 | L12: =+L$3 -> 46691 | ... BZ12: =+BZ$3 -> 48699
C13: =+B4 -> Mariannhill | E13: =+Mariannhill!H13 -> 0 | F13: =+Mariannhill!I13 -> 0 | G13: =+Mariannhill!J13 -> 89600 | H13: =+Mariannhill!K13 -> 89600 | I13: =+Mariannhill!L13 -> 89600 | J13: =+Mariannhill!M13 -> 89600 | K13: =+Mariannhill!N13 -> 89600 | L13: =+Mariannhill!O13 -> 89600 | ... BZ13: =+Mariannhill!CC13 -> 89600
B14: Fixed OM Fees to Model (Subject to CPI) | E14: =+SUM(E13:E13) -> 0 | F14: =+SUM(F13:F13) -> 0 | G14: =+SUM(G13:G13) -> 89600 | H14: =+SUM(H13:H13) -> 89600 | I14: =+SUM(I13:I13) -> 89600 | J14: =+SUM(J13:J13) -> 89600 | K14: =+SUM(K13:K13) -> 89600 | L14: =+SUM(L13:L13) -> 89600 | ... BZ14: =+SUM(BZ13:BZ13) -> 89600
B16: Control Centre | E16: Est Period | G16: 1 | S16: =+G16+1 -> 2 | AE16: =+S16+1 -> 3 | AQ16: =+AE16+1 -> 4 | BC16: =+AQ16+1 -> 5 | BO16: =+BC16+1 -> 6
E17: =+E$3 -> 46476 | F17: =+F$3 -> 46507 | G17: =+G$3 -> 46538 | H17: =+H$3 -> 46568 | I17: =+I$3 -> 46599 | J17: =+J$3 -> 46630 | K17: =+K$3 -> 46660 | L17: =+L$3 -> 46691 | ... BZ17: =+BZ$3 -> 48699
C18: =+B4 -> Mariannhill | E18: =+Mariannhill!H14 -> 27000000 | F18: =+Mariannhill!I14 -> 27000000 | G18: =+Mariannhill!J14 -> 27555556 | H18: =+Mariannhill!K14 -> 555555.56 | I18: =+Mariannhill!L14 -> 555555.56 | J18: =+Mariannhill!M14 -> 555555.56 | K18: =+Mariannhill!N14 -> 555555.56 | L18: =+Mariannhill!O14 -> 555555.56 | ... BZ18: =+Mariannhill!CC14 -> 7397370.4
B19: OM Provisional Sums to Model (Not Subject to CPI) | E19: =+SUM(E18:E18) -> 27000000 | F19: =+SUM(F18:F18) -> 27000000 | G19: =+SUM(G18:G18) -> 27555556 | H19: =+SUM(H18:H18) -> 555555.56 | I19: =+SUM(I18:I18) -> 555555.56 | J19: =+SUM(J18:J18) -> 555555.56 | K19: =+SUM(K18:K18) -> 555555.56 | L19: =+SUM(L18:L18) -> 555555.56 | ... BZ19: =+SUM(BZ18:BZ18) -> 7397370.4
B21: Control Centre | E21: Est Period | G21: 1 | S21: =+G21+1 -> 2 | AE21: =+S21+1 -> 3 | AQ21: =+AE21+1 -> 4 | BC21: =+AQ21+1 -> 5 | BO21: =+BC21+1 -> 6
E22: =+E$3 -> 46476 | F22: =+F$3 -> 46507 | G22: =+G$3 -> 46538 | H22: =+H$3 -> 46568 | I22: =+I$3 -> 46599 | J22: =+J$3 -> 46630 | K22: =+K$3 -> 46660 | L22: =+L$3 -> 46691 | ... BZ22: =+BZ$3 -> 48699
C23: =+B4 -> Mariannhill | E23: =Mariannhill!H22 -> 0 | F23: =Mariannhill!I22 -> 0 | G23: =Mariannhill!J22 -> 0 | H23: =Mariannhill!K22 -> 0 | I23: =Mariannhill!L22 -> 0 | J23: =Mariannhill!M22 -> 0 | K23: =Mariannhill!N22 -> 0 | L23: =Mariannhill!O22 -> 0 | ... BZ23: =Mariannhill!CC22 -> 0
B24: Fixed CAPEX to Model (Subject to CPI) | E24: =+SUM(E23:E23) -> 0 | F24: =+SUM(F23:F23) -> 0 | G24: =+SUM(G23:G23) -> 0 | H24: =+SUM(H23:H23) -> 0 | I24: =+SUM(I23:I23) -> 0 | J24: =+SUM(J23:J23) -> 0 | K24: =+SUM(K23:K23) -> 0 | L24: =+SUM(L23:L23) -> 0 | ... BZ24: =+SUM(BZ23:BZ23) -> 0
B26: Control Centre | E26: Est Period | G26: 1 | S26: =+G26+1 -> 2 | AE26: =+S26+1 -> 3 | AQ26: =+AE26+1 -> 4 | BC26: =+AQ26+1 -> 5 | BO26: =+BC26+1 -> 6
E27: =+E$3 -> 46476 | F27: =+F$3 -> 46507 | G27: =+G$3 -> 46538 | H27: =+H$3 -> 46568 | I27: =+I$3 -> 46599 | J27: =+J$3 -> 46630 | K27: =+K$3 -> 46660 | L27: =+L$3 -> 46691 | ... BZ27: =+BZ$3 -> 48699
C28: =+B4 -> Mariannhill | E28: =+Mariannhill!H23 -> 1800000 | F28: =+Mariannhill!I23 -> 1800000 | G28: =+Mariannhill!J23 -> 2633333.3 | H28: =+Mariannhill!K23 -> 833333.33 | I28: =+Mariannhill!L23 -> 833333.33 | J28: =+Mariannhill!M23 -> 833333.33 | K28: =+Mariannhill!N23 -> 833333.33 | L28: =+Mariannhill!O23 -> 833333.33 | ... BZ28: =+Mariannhill!CC23 -> 2342407.5
B29: CAPEX Provisional Sums to Model (Not Subject to CPI) | E29: =+SUM(E28:E28) -> 1800000 | F29: =+SUM(F28:F28) -> 1800000 | G29: =+SUM(G28:G28) -> 2633333.3 | H29: =+SUM(H28:H28) -> 833333.33 | I29: =+SUM(I28:I28) -> 833333.33 | J29: =+SUM(J28:J28) -> 833333.33 | K29: =+SUM(K28:K28) -> 833333.33 | L29: =+SUM(L28:L28) -> 833333.33 | ... BZ29: =+SUM(BZ28:BZ28) -> 2342407.5
B31: Control Centre | E31: Est Period | G31: 1 | S31: =+G31+1 -> 2 | AE31: =+S31+1 -> 3 | AQ31: =+AE31+1 -> 4 | BC31: =+AQ31+1 -> 5 | BO31: =+BC31+1 -> 6
E32: =+E$3 -> 46476 | F32: =+F$3 -> 46507 | G32: =+G$3 -> 46538 | H32: =+H$3 -> 46568 | I32: =+I$3 -> 46599 | J32: =+J$3 -> 46630 | K32: =+K$3 -> 46660 | L32: =+L$3 -> 46691 | ... BZ32: =+BZ$3 -> 48699
C33: =+B4 -> Mariannhill | E33: =+Mariannhill!H24 -> 0 | F33: =+Mariannhill!I24 -> 0 | G33: =+Mariannhill!J24 -> 0 | H33: =+Mariannhill!K24 -> 0 | I33: =+Mariannhill!L24 -> 0 | J33: =+Mariannhill!M24 -> 0 | K33: =+Mariannhill!N24 -> 0 | L33: =+Mariannhill!O24 -> 0 | ... BZ33: =+Mariannhill!CC24 -> 892333.4
B34: Part D Contract Participation etc (Not Subject to CPI) | E34: =+SUM(E33:E33) -> 0 | F34: =+SUM(F33:F33) -> 0 | G34: =+SUM(G33:G33) -> 0 | H34: =+SUM(H33:H33) -> 0 | I34: =+SUM(I33:I33) -> 0 | J34: =+SUM(J33:J33) -> 0 | K34: =+SUM(K33:K33) -> 0 | L34: =+SUM(L33:L33) -> 0 | ... BZ34: =+SUM(BZ33:BZ33) -> 892333.4
C36: CHECK: | D36: =IF((SUM(E28:BZ28)+SUM(E23:BZ23)+SUM(E18:BZ18)+SUM(E13:BZ13)+SUM(E4:BZ7)+SUM(E33:BZ33))='N3MH Totals'!G8,"OK","CHECK") -> OK
E57: =(851709205.26+116778058.35)/72 -> 13451212

Sheet N3MH Totals
B2: Item No | C2: Description | D2: Unit | E2: Quantity | F2: Rate | G2: TOTAL (6 Years) | H2: Est Period | J2: Operation Service Period - Year 1 | V2: Operation Service Period - Year 2 | AH2: Operation Service Period - Year 3 | AT2: Operation Service Period - Year 4 | BF2: Operation Service Period - Year 5 | BR2: Operation Service Period - Year 6
H3: ='Title Page'!C11 -> 46476 | I3: =DATE(YEAR(H3),MONTH(H3)+2,1)-1 -> 46507 | J3: =DATE(YEAR(I3),MONTH(I3)+2,1)-1 -> 46538 | K3: =DATE(YEAR(J3),MONTH(J3)+2,1)-1 -> 46568 | L3: =DATE(YEAR(K3),MONTH(K3)+2,1)-1 -> 46599 | M3: =DATE(YEAR(L3),MONTH(L3)+2,1)-1 -> 46630 | N3: =DATE(YEAR(M3),MONTH(M3)+2,1)-1 -> 46660 | O3: =DATE(YEAR(N3),MONTH(N3)+2,1)-1 -> 46691 | P3: =DATE(YEAR(O3),MONTH(O3)+2,1)-1 -> 46721 | ... CC3: =DATE(YEAR(CB3),MONTH(CB3)+2,1)-1 -> 48699
C6: Total Tendered F&V Cost (Incl VAT, in Rands) - to C1.1.1 FORM OF OFFER | G6: =+G7+G8 -> 270223780
C7: 15 %VAT on Total Tendered F&V Cost (in Rands) | G7: =+G8*0.15 -> 35246580
C8: Total Tendered F&V Cost (Excl VAT, in Rands) | G8: =+G11 -> 234977200
F10: CHECK | G10: =+SUM(H30:CC55,H57:CC96,H98:CC106,H108:CC119,H122:CC133,H135:CC143,H145:CC153,H155:CC157,H159:CC172,H174:CC175,H177:CC177,H179:CC206,H210:CC223,H225:CC251,H253:CC267,H273:CC342,H344:CC346,H348:CC389,H392:CC426) -> 234977200 | H10: =G10=G11 -> TRUE | I10: =G10=G28+G208+G391 -> TRUE
C11: Total Tendered F&V Cost for A- and B Series (excl VAT) | G11: =+SUM(H11:CC11) -> 234977200 | H11: =+H21+H12+H24 -> 28800000 | I11: =+I21+I12+I24 -> 28800000 | J11: =+J21+J12+J24 -> 30278489 | K11: =+K21+K12+K24 -> 1478488.9 | L11: =+L21+L12+L24 -> 1478488.9 | M11: =+M21+M12+M24 -> 1478488.9 | N11: =+N21+N12+N24 -> 1478488.9 | O11: =+O21+O12+O24 -> 1478488.9 | ... CC11: =+CC21+CC12+CC24 -> 10721711
B12: A | C12: A Series: Operation Service | G12: =+SUM(H12:CC12) -> 159613200 | H12: =+H28 -> 27000000 | I12: =+I28 -> 27000000 | J12: =+J28 -> 27645156 | K12: =+K28 -> 645155.56 | L12: =+L28 -> 645155.56 | M12: =+M28 -> 645155.56 | N12: =+N28 -> 645155.56 | O12: =+O28 -> 645155.56 | ... CC12: =+CC28 -> 7486970.4 | CD12: =G12=G28 -> TRUE
C13: Fixed Items | G13: =+SUM(H13:CC13) -> 6451200 | H13: =+H12-SUM(H14:H15) -> 0 | I13: =+I12-SUM(I14:I15) -> 0 | J13: =+J12-SUM(J14:J15) -> 89600 | K13: =+K12-SUM(K14:K15) -> 89600 | L13: =+L12-SUM(L14:L15) -> 89600 | M13: =+M12-SUM(M14:M15) -> 89600 | N13: =+N12-SUM(N14:N15) -> 89600 | O13: =+O12-SUM(O14:O15) -> 89600 | ... CC13: =+CC12-SUM(CC14:CC15) -> 89600
C14: Provisional Sums | G14: =+SUM(H14:CC14) -> 153162000 | H14: =+H178 -> 27000000 | I14: =+I178 -> 27000000 | J14: =+J178 -> 27555556 | K14: =+K178 -> 555555.56 | L14: =+L178 -> 555555.56 | M14: =+M178 -> 555555.56 | N14: =+N178 -> 555555.56 | O14: =+O178 -> 555555.56 | ... CC14: =+CC178 -> 7397370.4
C15: Variable Operation Cost | G15: =+SUM(H15:CC15) -> 0 | H15: =+SUM(H16:H19) -> 0 | I15: =+SUM(I16:I19) -> 0 | J15: =+SUM(J16:J19) -> 0 | K15: =+SUM(K16:K19) -> 0 | L15: =+SUM(L16:L19) -> 0 | M15: =+SUM(M16:M19) -> 0 | N15: =+SUM(N16:N19) -> 0 | O15: =+SUM(O16:O19) -> 0 | ... CC15: =+SUM(CC16:CC19) -> 0
C16: Class 1 | D16: month | E16: 72 | F16: =+SUM(Mariannhill!F16) -> 0 | G16: =+SUM(H16:CC16) -> 0 | H16: =+SUM(Mariannhill!H16) -> 0 | I16: =+SUM(Mariannhill!I16) -> 0 | J16: =+SUM(Mariannhill!J16) -> 0 | K16: =+SUM(Mariannhill!K16) -> 0 | L16: =+SUM(Mariannhill!L16) -> 0 | M16: =+SUM(Mariannhill!M16) -> 0 | N16: =+SUM(Mariannhill!N16) -> 0 | O16: =+SUM(Mariannhill!O16) -> 0 | ... CC16: =+SUM(Mariannhill!CC16) -> 0
C17: Class 2 | D17: month | E17: 72 | F17: =+SUM(Mariannhill!F17) -> 0 | G17: =+SUM(H17:CC17) -> 0 | H17: =+SUM(Mariannhill!H17) -> 0 | I17: =+SUM(Mariannhill!I17) -> 0 | J17: =+SUM(Mariannhill!J17) -> 0 | K17: =+SUM(Mariannhill!K17) -> 0 | L17: =+SUM(Mariannhill!L17) -> 0 | M17: =+SUM(Mariannhill!M17) -> 0 | N17: =+SUM(Mariannhill!N17) -> 0 | O17: =+SUM(Mariannhill!O17) -> 0 | ... CC17: =+SUM(Mariannhill!CC17) -> 0
C18: Class 3 | D18: month | E18: 72 | F18: =+SUM(Mariannhill!F18) -> 0 | G18: =+SUM(H18:CC18) -> 0 | H18: =+SUM(Mariannhill!H18) -> 0 | I18: =+SUM(Mariannhill!I18) -> 0 | J18: =+SUM(Mariannhill!J18) -> 0 | K18: =+SUM(Mariannhill!K18) -> 0 | L18: =+SUM(Mariannhill!L18) -> 0 | M18: =+SUM(Mariannhill!M18) -> 0 | N18: =+SUM(Mariannhill!N18) -> 0 | O18: =+SUM(Mariannhill!O18) -> 0 | ... CC18: =+SUM(Mariannhill!CC18) -> 0
C19: Class 4 | D19: month | E19: 72 | F19: =+SUM(Mariannhill!F19) -> 0 | G19: =+SUM(H19:CC19) -> 0 | H19: =+SUM(Mariannhill!H19) -> 0 | I19: =+SUM(Mariannhill!I19) -> 0 | J19: =+SUM(Mariannhill!J19) -> 0 | K19: =+SUM(Mariannhill!K19) -> 0 | L19: =+SUM(Mariannhill!L19) -> 0 | M19: =+SUM(Mariannhill!M19) -> 0 | N19: =+SUM(Mariannhill!N19) -> 0 | O19: =+SUM(Mariannhill!O19) -> 0 | ... CC19: =+SUM(Mariannhill!CC19) -> 0
G20: =IF(SUM(G16:G19)=0,0,IF(AND((SUM(G16:G19)/G12)>0.4,G178=0),0.4,(SUM(G16:G19)/G12))) -> 0 | H20: =IF(SUM(H16:H19)=0,0,IF(AND((SUM(H16:H19)/H12)>0.4,H178=0),0.4,(SUM(H16:H19)/H12))) -> 0 | I20: =IF(SUM(I16:I19)=0,0,IF(AND((SUM(I16:I19)/I12)>0.4,I178=0),0.4,(SUM(I16:I19)/I12))) -> 0 | J20: =IF(SUM(J16:J19)=0,0,IF(AND((SUM(J16:J19)/J12)>0.4,J178=0),0.4,(SUM(J16:J19)/J12))) -> 0 | K20: =IF(SUM(K16:K19)=0,0,IF(AND((SUM(K16:K19)/K12)>0.4,K178=0),0.4,(SUM(K16:K19)/K12))) -> 0 | L20: =IF(SUM(L16:L19)=0,0,IF(AND((SUM(L16:L19)/L12)>0.4,L178=0),0.4,(SUM(L16:L19)/L12))) -> 0 | M20: =IF(SUM(M16:M19)=0,0,IF(AND((SUM(M16:M19)/M12)>0.4,M178=0),0.4,(SUM(M16:M19)/M12))) -> 0 | N20: =IF(SUM(N16:N19)=0,0,IF(AND((SUM(N16:N19)/N12)>0.4,N178=0),0.4,(SUM(N16:N19)/N12))) -> 0 | ... CC20: =IF(SUM(CC16:CC19)=0,0,IF(AND((SUM(CC16:CC19)/CC12)>0.4,CC178=0),0.4,(SUM(CC16:CC19)/CC12))) -> 0
B21: B | C21: B Series: Design Build | G21: =+SUM(H21:CC21) -> 70010000 | H21: =+H208 -> 1800000 | I21: =+I208 -> 1800000 | J21: =+J208 -> 2633333.3 | K21: =+K208 -> 833333.33 | L21: =+L208 -> 833333.33 | M21: =+M208 -> 833333.33 | N21: =+N208 -> 833333.33 | O21: =+O208 -> 833333.33 | ... CC21: =+CC208 -> 2342407.5 | CD21: =G21=G208 -> TRUE
C22: Fixed Items | G22: =+SUM(H22:CC22) -> 0 | H22: =+H21-H23 -> 0 | I22: =+I21-I23 -> 0 | J22: =+J21-J23 -> 0 | K22: =+K21-K23 -> 0 | L22: =+L21-L23 -> 0 | M22: =+M21-M23 -> 0 | N22: =+N21-N23 -> 0 | O22: =+O21-O23 -> 0 | ... CC22: =+CC21-CC23 -> 0
C23: Provisional Sums | G23: =+SUM(H23:CC23) -> 70010000 | H23: =+H347 -> 1800000 | I23: =+I347 -> 1800000 | J23: =+J347 -> 2633333.3 | K23: =+K347 -> 833333.33 | L23: =+L347 -> 833333.33 | M23: =+M347 -> 833333.33 | N23: =+N347 -> 833333.33 | O23: =+O347 -> 833333.33 | ... CC23: =+CC347 -> 2342407.5
B24: D | C24: D Series: Contract Participation, etc | G24: =+SUM(H24:CC24) -> 5354000 | H24: =+H391 -> 0 | I24: =+I391 -> 0 | J24: =+J391 -> 0 | K24: =+K391 -> 0 | L24: =+L391 -> 0 | M24: =+M391 -> 0 | N24: =+N391 -> 0 | O24: =+O391 -> 0 | ... CC24: =+CC391 -> 892333.4 | CD24: =G24=G391 -> TRUE
C25: Fixed Items | G25: =+SUM(H25:CC25) -> 0 | H25: =H24-H26 -> 0 | I25: =I24-I26 -> 0 | J25: =J24-J26 -> 0 | K25: =K24-K26 -> 0 | L25: =L24-L26 -> 0 | M25: =M24-M26 -> 0 | N25: =N24-N26 -> 0 | O25: =O24-O26 -> 0 | ... CC25: =CC24-CC26 -> 0
C26: Provisional Sums | G26: =+SUM(H26:CC26) -> 5354000 | H26: =SUM(H392,H394,H395,H408:H409,H415:H418,H420,H422,H424:H425) -> 0 | I26: =SUM(I392,I394,I395,I408:I409,I415:I418,I420,I422,I424:I425) -> 0 | J26: =SUM(J392,J394,J395,J408:J409,J415:J418,J420,J422,J424:J425) -> 0 | K26: =SUM(K392,K394,K395,K408:K409,K415:K418,K420,K422,K424:K425) -> 0 | L26: =SUM(L392,L394,L395,L408:L409,L415:L418,L420,L422,L424:L425) -> 0 | M26: =SUM(M392,M394,M395,M408:M409,M415:M418,M420,M422,M424:M425) -> 0 | N26: =SUM(N392,N394,N395,N408:N409,N415:N418,N420,N422,N424:N425) -> 0 | O26: =SUM(O392,O394,O395,O408:O409,O415:O418,O420,O422,O424:O425) -> 0 | ... CC26: =SUM(CC392,CC394,CC395,CC408:CC409,CC415:CC418,CC420,CC422,CC424:CC425) -> 892333.4
B28: A Series | C28: Operation Service | F28: =(Mariannhill!G28)=G28 -> TRUE | G28: =+SUM(G29,G56,G97,G107,G120,G154,G158,G173,G176,G178) -> 159613200 | H28: =+SUM(H29,H56,H97,H107,H120,H154,H158,H173,H176,H178) -> 27000000 | I28: =+SUM(I29,I56,I97,I107,I120,I154,I158,I173,I176,I178) -> 27000000 | J28: =+SUM(J29,J56,J97,J107,J120,J154,J158,J173,J176,J178) -> 27645156 | K28: =+SUM(K29,K56,K97,K107,K120,K154,K158,K173,K176,K178) -> 645155.56 | L28: =+SUM(L29,L56,L97,L107,L120,L154,L158,L173,L176,L178) -> 645155.56 | M28: =+SUM(M29,M56,M97,M107,M120,M154,M158,M173,M176,M178) -> 645155.56 | N28: =+SUM(N29,N56,N97,N107,N120,N154,N158,N173,N176,N178) -> 645155.56 | ... CC28: =+SUM(CC29,CC56,CC97,CC107,CC120,CC154,CC158,CC173,CC176,CC178) -> 7486970.4 | CD28: .
B29: A-1000 | C29: General Contractors Obligations | F29: =(Mariannhill!G29)=G29 -> TRUE | G29: =SUM(G30:G55) -> 0 | H29: =SUM(H30:H55) -> 0 | I29: =SUM(I30:I55) -> 0 | J29: =SUM(J30:J55) -> 0 | K29: =SUM(K30:K55) -> 0 | L29: =SUM(L30:L55) -> 0 | M29: =SUM(M30:M55) -> 0 | N29: =SUM(N30:N55) -> 0 | ... CC29: =SUM(CC30:CC55) -> 0 | CD29: .
B30: A-1001 | C30: Contractors General Obligations for the duration of the Operations Service Period | F30: =(Mariannhill!G30)=G30 -> TRUE | G30: =+SUM(H30:CC30) -> 0 | H30: =SUM(Mariannhill!H30) -> 0 | I30: =SUM(Mariannhill!I30) -> 0 | J30: =SUM(Mariannhill!J30) -> 0 | K30: =SUM(Mariannhill!K30) -> 0 | L30: =SUM(Mariannhill!L30) -> 0 | M30: =SUM(Mariannhill!M30) -> 0 | N30: =SUM(Mariannhill!N30) -> 0 | O30: =SUM(Mariannhill!O30) -> 0 | ... CC30: =SUM(Mariannhill!CC30) -> 0 | CD30: .
B31: A-1001a | C31: Contractors General Obligations for the duration of the Operations Service Period - Establishment Period | D31: Week | E31: =SUM(Mariannhill!E31) -> 6 | F31: =(Mariannhill!G31)=G31 -> TRUE | G31: =+SUM(H31:CC31) -> 0 | H31: =SUM(Mariannhill!H31) -> 0 | I31: =SUM(Mariannhill!I31) -> 0 | J31: =SUM(Mariannhill!J31) -> 0 | K31: =SUM(Mariannhill!K31) -> 0 | L31: =SUM(Mariannhill!L31) -> 0 | M31: =SUM(Mariannhill!M31) -> 0 | N31: =SUM(Mariannhill!N31) -> 0 | O31: =SUM(Mariannhill!O31) -> 0 | ... CC31: =SUM(Mariannhill!CC31) -> 0 | CD31: .
B32: A-1001b | C32: Contractors General Obligations for the duration of the Operations Service Period - Section 1 (Using the Toll System handed over while being replaced) | D32: Month | E32: 42 | F32: =(Mariannhill!G32)=G32 -> TRUE | G32: =+SUM(H32:CC32) -> 0 | H32: =SUM(Mariannhill!H32) -> 0 | I32: =SUM(Mariannhill!I32) -> 0 | J32: =SUM(Mariannhill!J32) -> 0 | K32: =SUM(Mariannhill!K32) -> 0 | L32: =SUM(Mariannhill!L32) -> 0 | M32: =SUM(Mariannhill!M32) -> 0 | N32: =SUM(Mariannhill!N32) -> 0 | O32: =SUM(Mariannhill!O32) -> 0 | ... CC32: =SUM(Mariannhill!CC32) -> 0 | CD32: .
B33: A-1001c | C33: Contractors General Obligations for the duration of the Operations Service Period - Section 2 & 3 (Using the Upgraded Toll System in new northbound and in existing southbound lanes, operating with construction in southbound lanes) | D33: Month | E33: 18 | F33: =(Mariannhill!G33)=G33 -> TRUE | G33: =+SUM(H33:CC33) -> 0 | H33: =SUM(Mariannhill!H33) -> 0 | I33: =SUM(Mariannhill!I33) -> 0 | J33: =SUM(Mariannhill!J33) -> 0 | K33: =SUM(Mariannhill!K33) -> 0 | L33: =SUM(Mariannhill!L33) -> 0 | M33: =SUM(Mariannhill!M33) -> 0 | N33: =SUM(Mariannhill!N33) -> 0 | O33: =SUM(Mariannhill!O33) -> 0 | ... CC33: =SUM(Mariannhill!CC33) -> 0 | CD33: .
B34: A-1001d | C34: Contractors General Obligations for the duration of the Operations Service Period - Section 4 (Using new southbound lanes) | D34: Month | E34: 5 | F34: =(Mariannhill!G34)=G34 -> TRUE | G34: =+SUM(H34:CC34) -> 0 | H34: =SUM(Mariannhill!H34) -> 0 | I34: =SUM(Mariannhill!I34) -> 0 | J34: =SUM(Mariannhill!J34) -> 0 | K34: =SUM(Mariannhill!K34) -> 0 | L34: =SUM(Mariannhill!L34) -> 0 | M34: =SUM(Mariannhill!M34) -> 0 | N34: =SUM(Mariannhill!N34) -> 0 | O34: =SUM(Mariannhill!O34) -> 0 | ... CC34: =SUM(Mariannhill!CC34) -> 0 | CD34: .
B35: A-1001e | C35: Contractors General Obligations for the duration of the Operations Service Period - Section 5 (Using the SANRAL MIS, to be triggered) | D35: Month | E35: 4 | F35: =(Mariannhill!G35)=G35 -> TRUE | G35: =+SUM(H35:CC35) -> 0 | H35: =SUM(Mariannhill!H35) -> 0 | I35: =SUM(Mariannhill!I35) -> 0 | J35: =SUM(Mariannhill!J35) -> 0 | K35: =SUM(Mariannhill!K35) -> 0 | L35: =SUM(Mariannhill!L35) -> 0 | M35: =SUM(Mariannhill!M35) -> 0 | N35: =SUM(Mariannhill!N35) -> 0 | O35: =SUM(Mariannhill!O35) -> 0 | ... CC35: =SUM(Mariannhill!CC35) -> 0 | CD35: .
B36: A-1001f | C36: Contractors General Obligations for the duration of the Operations Period – Section 6 (Using the National SANRAL Toll System, to be triggered) | D36: Month | E36: 3 | F36: =(Mariannhill!G36)=G36 -> TRUE | G36: =+SUM(H36:CC36) -> 0 | H36: =SUM(Mariannhill!H36) -> 0 | I36: =SUM(Mariannhill!I36) -> 0 | J36: =SUM(Mariannhill!J36) -> 0 | K36: =SUM(Mariannhill!K36) -> 0 | L36: =SUM(Mariannhill!L36) -> 0 | M36: =SUM(Mariannhill!M36) -> 0 | N36: =SUM(Mariannhill!N36) -> 0 | O36: =SUM(Mariannhill!O36) -> 0 | ... CC36: =SUM(Mariannhill!CC36) -> 0 | CD36: .
B37: A-1002 | C37: Provision of Performance Security | D37: Year | E37: =SUM(Mariannhill!E37) -> 6 | F37: =(Mariannhill!G37)=G37 -> TRUE | G37: =+SUM(H37:CC37) -> 0 | H37: =SUM(Mariannhill!H37) -> 0 | I37: =SUM(Mariannhill!I37) -> 0 | J37: =SUM(Mariannhill!J37) -> 0 | K37: =SUM(Mariannhill!K37) -> 0 | L37: =SUM(Mariannhill!L37) -> 0 | M37: =SUM(Mariannhill!M37) -> 0 | N37: =SUM(Mariannhill!N37) -> 0 | O37: =SUM(Mariannhill!O37) -> 0 | ... CC37: =SUM(Mariannhill!CC37) -> 0 | CD37: .
B38: A-1003 | C38: Compliance with Laws | D38: Month | E38: =SUM(Mariannhill!E38) -> 72 | F38: =(Mariannhill!G38)=G38 -> TRUE | G38: =+SUM(H38:CC38) -> 0 | H38: =SUM(Mariannhill!H38) -> 0 | I38: =SUM(Mariannhill!I38) -> 0 | J38: =SUM(Mariannhill!J38) -> 0 | K38: =SUM(Mariannhill!K38) -> 0 | L38: =SUM(Mariannhill!L38) -> 0 | M38: =SUM(Mariannhill!M38) -> 0 | N38: =SUM(Mariannhill!N38) -> 0 | O38: =SUM(Mariannhill!O38) -> 0 | ... CC38: =SUM(Mariannhill!CC38) -> 0 | CD38: .
B39: A-1004 | C39: Compliance with Health and Safety Requirements | D39: Month | E39: =SUM(Mariannhill!E39) -> 72 | F39: =(Mariannhill!G39)=G39 -> TRUE | G39: =+SUM(H39:CC39) -> 0 | H39: =SUM(Mariannhill!H39) -> 0 | I39: =SUM(Mariannhill!I39) -> 0 | J39: =SUM(Mariannhill!J39) -> 0 | K39: =SUM(Mariannhill!K39) -> 0 | L39: =SUM(Mariannhill!L39) -> 0 | M39: =SUM(Mariannhill!M39) -> 0 | N39: =SUM(Mariannhill!N39) -> 0 | O39: =SUM(Mariannhill!O39) -> 0 | ... CC39: =SUM(Mariannhill!CC39) -> 0 | CD39: .
B40: A-1005 | C40: Compliance with Environmental Requirements | D40: Month | E40: =SUM(Mariannhill!E40) -> 72 | F40: =(Mariannhill!G40)=G40 -> TRUE | G40: =+SUM(H40:CC40) -> 0 | H40: =SUM(Mariannhill!H40) -> 0 | I40: =SUM(Mariannhill!I40) -> 0 | J40: =SUM(Mariannhill!J40) -> 0 | K40: =SUM(Mariannhill!K40) -> 0 | L40: =SUM(Mariannhill!L40) -> 0 | M40: =SUM(Mariannhill!M40) -> 0 | N40: =SUM(Mariannhill!N40) -> 0 | O40: =SUM(Mariannhill!O40) -> 0 | ... CC40: =SUM(Mariannhill!CC40) -> 0 | CD40: .
B41: A-1006 | C41: Compliance with Social Responsibility Requirements | D41: Month | E41: =SUM(Mariannhill!E41) -> 72 | F41: =(Mariannhill!G41)=G41 -> TRUE | G41: =+SUM(H41:CC41) -> 0 | H41: =SUM(Mariannhill!H41) -> 0 | I41: =SUM(Mariannhill!I41) -> 0 | J41: =SUM(Mariannhill!J41) -> 0 | K41: =SUM(Mariannhill!K41) -> 0 | L41: =SUM(Mariannhill!L41) -> 0 | M41: =SUM(Mariannhill!M41) -> 0 | N41: =SUM(Mariannhill!N41) -> 0 | O41: =SUM(Mariannhill!O41) -> 0 | ... CC41: =SUM(Mariannhill!CC41) -> 0 | CD41: .
B42: A-1007 | C42: Provision and Maintenance of Adequate Insurance | D42: Month | E42: =SUM(Mariannhill!E42) -> 72 | F42: =(Mariannhill!G42)=G42 -> TRUE | G42: =+SUM(H42:CC42) -> 0 | H42: =SUM(Mariannhill!H42) -> 0 | I42: =SUM(Mariannhill!I42) -> 0 | J42: =SUM(Mariannhill!J42) -> 0 | K42: =SUM(Mariannhill!K42) -> 0 | L42: =SUM(Mariannhill!L42) -> 0 | M42: =SUM(Mariannhill!M42) -> 0 | N42: =SUM(Mariannhill!N42) -> 0 | O42: =SUM(Mariannhill!O42) -> 0 | ... CC42: =SUM(Mariannhill!CC42) -> 0 | CD42: .
B43: A-1008 | C43: Provision and Maintenance of Contractor's Equipment | D43: Month | E43: =SUM(Mariannhill!E43) -> 72 | F43: =(Mariannhill!G43)=G43 -> TRUE | G43: =+SUM(H43:CC43) -> 0 | H43: =SUM(Mariannhill!H43) -> 0 | I43: =SUM(Mariannhill!I43) -> 0 | J43: =SUM(Mariannhill!J43) -> 0 | K43: =SUM(Mariannhill!K43) -> 0 | L43: =SUM(Mariannhill!L43) -> 0 | M43: =SUM(Mariannhill!M43) -> 0 | N43: =SUM(Mariannhill!N43) -> 0 | O43: =SUM(Mariannhill!O43) -> 0 | ... CC43: =SUM(Mariannhill!CC43) -> 0 | CD43: .
B44: A-1009 | C44: Supply and Maintenance of Documents and Drawings | D44: Month | E44: =SUM(Mariannhill!E44) -> 72 | F44: =(Mariannhill!G44)=G44 -> TRUE | G44: =+SUM(H44:CC44) -> 0 | H44: =SUM(Mariannhill!H44) -> 0 | I44: =SUM(Mariannhill!I44) -> 0 | J44: =SUM(Mariannhill!J44) -> 0 | K44: =SUM(Mariannhill!K44) -> 0 | L44: =SUM(Mariannhill!L44) -> 0 | M44: =SUM(Mariannhill!M44) -> 0 | N44: =SUM(Mariannhill!N44) -> 0 | O44: =SUM(Mariannhill!O44) -> 0 | ... CC44: =SUM(Mariannhill!CC44) -> 0 | CD44: .
B45: A-1010 | C45: Training of Personnel and other training obligations | D45: Month | E45: =SUM(Mariannhill!E45) -> 72 | F45: =(Mariannhill!G45)=G45 -> TRUE | G45: =+SUM(H45:CC45) -> 0 | H45: =SUM(Mariannhill!H45) -> 0 | I45: =SUM(Mariannhill!I45) -> 0 | J45: =SUM(Mariannhill!J45) -> 0 | K45: =SUM(Mariannhill!K45) -> 0 | L45: =SUM(Mariannhill!L45) -> 0 | M45: =SUM(Mariannhill!M45) -> 0 | N45: =SUM(Mariannhill!N45) -> 0 | O45: =SUM(Mariannhill!O45) -> 0 | ... CC45: =SUM(Mariannhill!CC45) -> 0 | CD45: .
...

Sheet Mariannhill
B2: Item No | C2: Description | D2: Unit | E2: Quantity | F2: Rate | G2: TOTAL (6 Years) | H2: Est Period | J2: Operation Service Period - Year 1 | V2: Operation Service Period - Year 2 | AH2: Operation Service Period - Year 3 | AT2: Operation Service Period - Year 4 | BF2: Operation Service Period - Year 5 | BR2: Operation Service Period - Year 6
H3: ='Title Page'!C11 -> 46476 | I3: =DATE(YEAR(H3),MONTH(H3)+2,1)-1 -> 46507 | J3: =DATE(YEAR(I3),MONTH(I3)+2,1)-1 -> 46538 | K3: =DATE(YEAR(J3),MONTH(J3)+2,1)-1 -> 46568 | L3: =DATE(YEAR(K3),MONTH(K3)+2,1)-1 -> 46599 | M3: =DATE(YEAR(L3),MONTH(L3)+2,1)-1 -> 46630 | N3: =DATE(YEAR(M3),MONTH(M3)+2,1)-1 -> 46660 | O3: =DATE(YEAR(N3),MONTH(N3)+2,1)-1 -> 46691 | P3: =DATE(YEAR(O3),MONTH(O3)+2,1)-1 -> 46721 | ... CC3: =DATE(YEAR(CB3),MONTH(CB3)+2,1)-1 -> 48699
C6: Total Tendered F&V Cost (Incl VAT, in Rands) - to N3MH Totals | G6: =+G7+G8 -> 270223780
C7: 15 %VAT on Total Tendered F&V Cost (in Rands) | G7: =+G8*0.15 -> 35246580
C8: Total Tendered F&V Cost (Excl VAT, in Rands) | G8: =+G11 -> 234977200
F10: CHECK | G10: =+SUM(H30:CC55,H57:CC96,H98:CC106,H108:CC119,H122:CC133,H135:CC143,H145:CC153,H155:CC157,H159:CC172,H174:CC175,H177:CC177,H179:CC206,H210:CC223,H225:CC251,H253:CC267,H273:CC342,H344:CC346,H348:CC389,H392:CC426) -> 234977200 | H10: =G10=G11 -> TRUE | I10: =G28+G208+G391=G10 -> TRUE
C11: Total Tendered F&V Cost for A- and B Series (excl VAT) | G11: =+SUM(H11:CC11) -> 234977200 | H11: =+H21+H12+H24 -> 28800000 | I11: =+I21+I12+I24 -> 28800000 | J11: =+J21+J12+J24 -> 30278489 | K11: =+K21+K12+K24 -> 1478488.9 | L11: =+L21+L12+L24 -> 1478488.9 | M11: =+M21+M12+M24 -> 1478488.9 | N11: =+N21+N12+N24 -> 1478488.9 | O11: =+O21+O12+O24 -> 1478488.9 | ... CC11: =+CC21+CC12+CC24 -> 10721711
B12: A | C12: A Series: Operation Service | G12: =+SUM(H12:CC12) -> 159613200 | H12: =+H28 -> 27000000 | I12: =+I28 -> 27000000 | J12: =+J28 -> 27645156 | K12: =+K28 -> 645155.56 | L12: =+L28 -> 645155.56 | M12: =+M28 -> 645155.56 | N12: =+N28 -> 645155.56 | O12: =+O28 -> 645155.56 | ... CC12: =+CC28 -> 7486970.4 | CD12: =G12=G28 -> TRUE
C13: Fixed Items | G13: =+SUM(H13:CC13) -> 6451200 | H13: =+H12-SUM(H14:H15) -> 0 | I13: =+I12-SUM(I14:I15) -> 0 | J13: =+J12-SUM(J14:J15) -> 89600 | K13: =+K12-SUM(K14:K15) -> 89600 | L13: =+L12-SUM(L14:L15) -> 89600 | M13: =+M12-SUM(M14:M15) -> 89600 | N13: =+N12-SUM(N14:N15) -> 89600 | O13: =+O12-SUM(O14:O15) -> 89600 | ... CC13: =+CC12-SUM(CC14:CC15) -> 89600
C14: Provisional Sums | G14: =+SUM(H14:CC14) -> 153162000 | H14: =+H178 -> 27000000 | I14: =+I178 -> 27000000 | J14: =+J178 -> 27555556 | K14: =+K178 -> 555555.56 | L14: =+L178 -> 555555.56 | M14: =+M178 -> 555555.56 | N14: =+N178 -> 555555.56 | O14: =+O178 -> 555555.56 | ... CC14: =+CC178 -> 7397370.4
C15: Variable Operation Cost | G15: =+SUM(H15:CC15) -> 0 | H15: =+SUM(H16:H19) -> 0 | I15: =+SUM(I16:I19) -> 0 | J15: =+SUM(J16:J19) -> 0 | K15: =+SUM(K16:K19) -> 0 | L15: =+SUM(L16:L19) -> 0 | M15: =+SUM(M16:M19) -> 0 | N15: =+SUM(N16:N19) -> 0 | O15: =+SUM(O16:O19) -> 0 | ... CC15: =+SUM(CC16:CC19) -> 0
C16: Class 1 | D16: Month | E16: 72 | G16: =+SUM(H16:CC16) -> 0 | CD16: .
C17: Class 2 | D17: Month | E17: 72 | G17: =+SUM(H17:CC17) -> 0 | CD17: .
C18: Class 3 | D18: Month | E18: 72 | G18: =+SUM(H18:CC18) -> 0 | CD18: .
C19: Class 4 | D19: Month | E19: 72 | G19: =+SUM(H19:CC19) -> 0 | CD19: .
G20: =IF(SUM(G16:G19)=0,0,IF(AND((SUM(G16:G19)/G12)>0.4,G178=0),0.4,(SUM(G16:G19)/G12))) -> 0 | H20: =IF(SUM(H16:H19)=0,0,IF(AND((SUM(H16:H19)/H12)>0.4,H178=0),0.4,(SUM(H16:H19)/H12))) -> 0 | I20: =IF(SUM(I16:I19)=0,0,IF(AND((SUM(I16:I19)/I12)>0.4,I178=0),0.4,(SUM(I16:I19)/I12))) -> 0 | J20: =IF(SUM(J16:J19)=0,0,IF(AND((SUM(J16:J19)/J12)>0.4,J178=0),0.4,(SUM(J16:J19)/J12))) -> 0 | K20: =IF(SUM(K16:K19)=0,0,IF(AND((SUM(K16:K19)/K12)>0.4,K178=0),0.4,(SUM(K16:K19)/K12))) -> 0 | L20: =IF(SUM(L16:L19)=0,0,IF(AND((SUM(L16:L19)/L12)>0.4,L178=0),0.4,(SUM(L16:L19)/L12))) -> 0 | M20: =IF(SUM(M16:M19)=0,0,IF(AND((SUM(M16:M19)/M12)>0.4,M178=0),0.4,(SUM(M16:M19)/M12))) -> 0 | N20: =IF(SUM(N16:N19)=0,0,IF(AND((SUM(N16:N19)/N12)>0.4,N178=0),0.4,(SUM(N16:N19)/N12))) -> 0 | ... CC20: =IF(SUM(CC16:CC19)=0,0,IF(AND((SUM(CC16:CC19)/CC12)>0.4,CC178=0),0.4,(SUM(CC16:CC19)/CC12))) -> 0
B21: B | C21: B Series: Design Build | G21: =+SUM(H21:CC21) -> 70010000 | H21: =+H208 -> 1800000 | I21: =+I208 -> 1800000 | J21: =+J208 -> 2633333.3 | K21: =+K208 -> 833333.33 | L21: =+L208 -> 833333.33 | M21: =+M208 -> 833333.33 | N21: =+N208 -> 833333.33 | O21: =+O208 -> 833333.33 | ... CC21: =+CC208 -> 2342407.5 | CD21: =G21=G208 -> TRUE
C22: Fixed Items | G22: =+SUM(H22:CC22) -> 0 | H22: =+H21-H23 -> 0 | I22: =+I21-I23 -> 0 | J22: =+J21-J23 -> 0 | K22: =+K21-K23 -> 0 | L22: =+L21-L23 -> 0 | M22: =+M21-M23 -> 0 | N22: =+N21-N23 -> 0 | O22: =+O21-O23 -> 0 | ... CC22: =+CC21-CC23 -> 0
C23: Provisional Sums | G23: =+SUM(H23:CC23) -> 70010000 | H23: =+H347 -> 1800000 | I23: =+I347 -> 1800000 | J23: =+J347 -> 2633333.3 | K23: =+K347 -> 833333.33 | L23: =+L347 -> 833333.33 | M23: =+M347 -> 833333.33 | N23: =+N347 -> 833333.33 | O23: =+O347 -> 833333.33 | ... CC23: =+CC347 -> 2342407.5
B24: D | C24: D Series: Contract Participation, etc | G24: =+SUM(H24:CC24) -> 5354000 | H24: =+H391 -> 0 | I24: =+I391 -> 0 | J24: =+J391 -> 0 | K24: =+K391 -> 0 | L24: =+L391 -> 0 | M24: =+M391 -> 0 | N24: =+N391 -> 0 | O24: =+O391 -> 0 | ... CC24: =+CC391 -> 892333.4 | CD24: =G24=G391 -> TRUE
C25: Fixed Items | G25: =+SUM(H25:CC25) -> 0 | H25: =H24-H26 -> 0 | I25: =I24-I26 -> 0 | J25: =J24-J26 -> 0 | K25: =K24-K26 -> 0 | L25: =L24-L26 -> 0 | M25: =M24-M26 -> 0 | N25: =N24-N26 -> 0 | O25: =O24-O26 -> 0 | ... CC25: =CC24-CC26 -> 0
C26: Provisional Sums | G26: =+SUM(H26:CC26) -> 5354000 | H26: =SUM(H392,H394,H395,H408:H409,H415:H418,H420,H422,H424:H425) -> 0 | I26: =SUM(I392,I394,I395,I408:I409,I415:I418,I420,I422,I424:I425) -> 0 | J26: =SUM(J392,J394,J395,J408:J409,J415:J418,J420,J422,J424:J425) -> 0 | K26: =SUM(K392,K394,K395,K408:K409,K415:K418,K420,K422,K424:K425) -> 0 | L26: =SUM(L392,L394,L395,L408:L409,L415:L418,L420,L422,L424:L425) -> 0 | M26: =SUM(M392,M394,M395,M408:M409,M415:M418,M420,M422,M424:M425) -> 0 | N26: =SUM(N392,N394,N395,N408:N409,N415:N418,N420,N422,N424:N425) -> 0 | O26: =SUM(O392,O394,O395,O408:O409,O415:O418,O420,O422,O424:O425) -> 0 | ... CC26: =SUM(CC392,CC394,CC395,CC408:CC409,CC415:CC418,CC420,CC422,CC424:CC425) -> 892333.4
B28: A Series | C28: Operation Service | G28: =+SUM(G29,G56,G97,G107,G120,G154,G158,G173,G176,G178) -> 159613200 | H28: =+SUM(H29,H56,H97,H107,H120,H154,H158,H173,H176,H178) -> 27000000 | I28: =+SUM(I29,I56,I97,I107,I120,I154,I158,I173,I176,I178) -> 27000000 | J28: =+SUM(J29,J56,J97,J107,J120,J154,J158,J173,J176,J178) -> 27645156 | K28: =+SUM(K29,K56,K97,K107,K120,K154,K158,K173,K176,K178) -> 645155.56 | L28: =+SUM(L29,L56,L97,L107,L120,L154,L158,L173,L176,L178) -> 645155.56 | M28: =+SUM(M29,M56,M97,M107,M120,M154,M158,M173,M176,M178) -> 645155.56 | N28: =+SUM(N29,N56,N97,N107,N120,N154,N158,N173,N176,N178) -> 645155.56 | ... CC28: =+SUM(CC29,CC56,CC97,CC107,CC120,CC154,CC158,CC173,CC176,CC178) -> 7486970.4 | CD28: .
B29: A-1000 | C29: General Contractors Obligations | G29: =SUM(G30:G55) -> 0 | H29: =SUM(H30:H55) -> 0 | I29: =SUM(I30:I55) -> 0 | J29: =SUM(J30:J55) -> 0 | K29: =SUM(K30:K55) -> 0 | L29: =SUM(L30:L55) -> 0 | M29: =SUM(M30:M55) -> 0 | N29: =SUM(N30:N55) -> 0 | ... CC29: =SUM(CC30:CC55) -> 0 | CD29: .
B30: A-1001 | C30: Contractors General Obligations for the duration of the Operations Service Period | CD30: .
B31: A-1001a | C31: Contractors General Obligations for the duration of the Operations Service Period - Establishment Period | D31: Week | E31: 6 | G31: =+SUM(H31:CC31) -> 0 | CD31: .
B32: A-1001b | C32: Contractors General Obligations for the duration of the Operations Service Period - Section 1 (Using the Toll System handed over while being replaced) | D32: Month | E32: 42 | G32: =+SUM(H32:CC32) -> 0 | CD32: .
B33: A-1001c | C33: Contractors General Obligations for the duration of the Operations Service Period - Section 2 & 3 (Using the Upgraded Toll System in new northbound and in existing southbound lanes, operating with construction in southbound lanes) | D33: Month | E33: 18 | G33: =+SUM(H33:CC33) -> 0 | CD33: .
B34: A-1001d | C34: Contractors General Obligations for the duration of the Operations Service Period - Section 4 (Using new southbound lanes) | D34: Month | E34: 5 | G34: =+SUM(H34:CC34) -> 0 | CD34: .
B35: A-1001e | C35: Contractors General Obligations for the duration of the Operations Service Period - Section 5 (Using the SANRAL MIS, to be triggered) | D35: Month | E35: 4 | G35: =+SUM(H35:CC35) -> 0 | CD35: .
B36: A-1001f | C36: Contractors General Obligations for the duration of the Operations Period – Section 6 (Using the National SANRAL Toll System, to be triggered) | D36: Month | E36: 3 | G36: =+SUM(H36:CC36) -> 0 | CD36: .
B37: A-1002 | C37: Provision of Performance Security | D37: Year | E37: 6 | G37: =+SUM(H37:CC37) -> 0 | CD37: .
B38: A-1003 | C38: Compliance with Laws | D38: Month | E38: 72 | G38: =+SUM(H38:CC38) -> 0 | CD38: .
B39: A-1004 | C39: Compliance with Health and Safety Requirements | D39: Month | E39: 72 | G39: =+SUM(H39:CC39) -> 0 | CD39: .
B40: A-1005 | C40: Compliance with Environmental Requirements | D40: Month | E40: 72 | G40: =+SUM(H40:CC40) -> 0 | CD40: .
B41: A-1006 | C41: Compliance with Social Responsibility Requirements | D41: Month | E41: 72 | G41: =+SUM(H41:CC41) -> 0 | CD41: .
B42: A-1007 | C42: Provision and Maintenance of Adequate Insurance | D42: Month | E42: 72 | G42: =+SUM(H42:CC42) -> 0 | CD42: .
... B45: A-1010 | C45: Training of Personnel and other training obligations | D45: Month | E45: 72 | G45: =+SUM(H45:CC45) -> 0 | CD45: .
B46: A-1011 | C46: Completion of Operation Service Period | D46: Lump Sum | E46: 1 | G46: =+E46*F46 -> 0 | CC46: =G46-SUM(H46:CB46) -> 0 | CD46: .
B47: A-1012 | C47: Extra Over Cost for Taking over of upgraded & new assets during contract period (if triggered) | D47: Lump Sum | E47: 1 | G47: =+E47*F47 -> 0 | U47: =G47/6 -> 0 | AG47: =G47/6 -> 0 | AS47: =G47/6 -> 0 | BE47: =G47/6 -> 0 | BQ47: =G47/6 -> 0 | CC47: =G47-SUM(H47:CB47) -> 0 | CD47: .
...
